BEGIN:VCALENDAR
VERSION:2.0
PRODID:SchoolNow
CALSCALE:GREGORIAN
BEGIN:VEVENT
UID:11045750-f6a6-11ea-be77-0a19f4b3c3d9
DTSTAMP:20201110T200139Z
SUMMARY:D97 Meal Distribution
URL;VALUE=URI:https://www.op97.org/irving/calendar/2353863/meal-distributio
 n-112420
DTSTART:20201124T163000Z
DTEND:20201124T190000Z
END:VEVENT
END:VCALENDAR
