BEGIN:VCALENDAR
VERSION:2.0
PRODID:SchoolNow
CALSCALE:GREGORIAN
BEGIN:VEVENT
UID:03364bb4-1240-11eb-b012-129e0a2870c7
DTSTAMP:20201019T191930Z
SUMMARY:Parent-Teacher Conferences - Half Day (AM Only)
URL;VALUE=URI:https://www.op97.org/irving/calendar/2474899/parent-teacher-c
 onferences-half-day-am-only-102320
DTSTART;VALUE=DATE:20201023
DTEND;VALUE=DATE:20201024
END:VEVENT
END:VCALENDAR
