BEGIN:VCALENDAR
VERSION:2.0
PRODID:SchoolNow
CALSCALE:GREGORIAN
BEGIN:VEVENT
UID:bef650aa-238f-11eb-adb1-0a2c95d0af3b
DTSTAMP:20201110T200305Z
SUMMARY:D97 Meal Distribution
URL;VALUE=URI:https://www.op97.org/irving/calendar/2493871/meal-distributio
 n-120820
DTSTART:20201208T163000Z
DTEND:20201208T190000Z
END:VEVENT
END:VCALENDAR
