BEGIN:VCALENDAR
VERSION:2.0
PRODID:SchoolNow
CALSCALE:GREGORIAN
BEGIN:VEVENT
UID:fe437b52-238f-11eb-bcd1-0a2c95d0af3b
DTSTAMP:20201110T200451Z
SUMMARY:D97 Meal Distribution
URL;VALUE=URI:https://www.op97.org/irving/calendar/2493893/meal-distributio
 n-122220
DTSTART:20201222T163000Z
DTEND:20201222T190000Z
END:VEVENT
END:VCALENDAR
