BEGIN:VCALENDAR
VERSION:2.0
PRODID:SchoolNow
CALSCALE:GREGORIAN
BEGIN:VEVENT
UID:b24c48f2-2392-11eb-8479-0a5c5080b48d
DTSTAMP:20210129T040937Z
SUMMARY:Parent-Teacher Conferences - Half Day (AM Only)
URL;VALUE=URI:https://www.op97.org/irving/calendar/2493937/parent-teacher-c
 onferences-half-day-am-only-020421
DTSTART;VALUE=DATE:20210225
DTEND;VALUE=DATE:20210226
END:VEVENT
END:VCALENDAR
