BEGIN:VCALENDAR
VERSION:2.0
PRODID:SchoolNow
CALSCALE:GREGORIAN
BEGIN:VEVENT
UID:03a02cfc-5d20-11eb-a90a-0e8fbccf2215
DTSTAMP:20210123T020924Z
SUMMARY:Remote Learning Planning Day (No Remote Learning for Students)
URL;VALUE=URI:https://www.op97.org/irving/calendar/2530061/remote-learning-
 planning-day-no-remote-learning-for-students-012521
DTSTART;VALUE=DATE:20210125
DTEND;VALUE=DATE:20210126
END:VEVENT
END:VCALENDAR
