BEGIN:VCALENDAR
VERSION:2.0
PRODID:SchoolNow
CALSCALE:GREGORIAN
BEGIN:VEVENT
UID:177a0cec-9d5e-11eb-87ec-0ef7f164c4e1
DTSTAMP:20210414T201501Z
SUMMARY:Remote Learning Planning Day (No School for Students)
URL;VALUE=URI:https://www.op97.org/irving/calendar/2577167/remote-learning-
 planning-day-no-school-050721
DTSTART;VALUE=DATE:20210507
DTEND;VALUE=DATE:20210508
END:VEVENT
END:VCALENDAR
