BEGIN:VCALENDAR
VERSION:2.0
PRODID:SchoolNow
CALSCALE:GREGORIAN
BEGIN:VEVENT
UID:dae55094-de9d-11eb-a7e9-0a95bb28d3d3
DTSTAMP:20210706T210512Z
SUMMARY:1st Trimester Ends
URL;VALUE=URI:https://www.op97.org/irving/calendar/2635592/1st-trimester-en
 ds-111921
DTSTART;VALUE=DATE:20211119
DTEND;VALUE=DATE:20211120
END:VEVENT
END:VCALENDAR
