BEGIN:VCALENDAR
VERSION:2.0
PRODID:SchoolNow
CALSCALE:GREGORIAN
BEGIN:VEVENT
UID:e4f979b2-08db-11ec-90d4-02b99d0d14ef
DTSTAMP:20210831T153455Z
SUMMARY:Virtual Elementary Instrumental Music Open House
URL;VALUE=URI:https://www.op97.org/irving/calendar/2693388/elementary-instr
 umental-music-enrollment-open-house
DTSTART:20210909T000000Z
DTEND:20210909T030000Z
END:VEVENT
END:VCALENDAR
