BEGIN:VCALENDAR
VERSION:2.0
PRODID:SchoolNow
CALSCALE:GREGORIAN
BEGIN:VEVENT
UID:dc5a4902-2dee-11ec-87ff-02f95f1c9203
DTSTAMP:20211015T193406Z
SUMMARY:Picture Day - Grades K-2
URL;VALUE=URI:https://www.op97.org/irving/calendar/2817867/picture-day-grad
 es-k-2
DTSTART;VALUE=DATE:20211026
DTEND;VALUE=DATE:20211027
END:VEVENT
END:VCALENDAR
