BEGIN:VCALENDAR
VERSION:2.0
PRODID:SchoolNow
CALSCALE:GREGORIAN
BEGIN:VEVENT
UID:f13bf7ee-2dee-11ec-af4c-02f95f1c9203
DTSTAMP:20211015T193441Z
SUMMARY:Picture Day - Grades 3-5
URL;VALUE=URI:https://www.op97.org/irving/calendar/2817869/picture-day-grad
 es-k-2-clone
DTSTART;VALUE=DATE:20211027
DTEND;VALUE=DATE:20211028
END:VEVENT
END:VCALENDAR
