BEGIN:VCALENDAR
VERSION:2.0
PRODID:SchoolNow
CALSCALE:GREGORIAN
BEGIN:VEVENT
UID:2323ab44-ec21-11ec-94db-02f7a0dded9d
DTSTAMP:20220624T155304Z
SUMMARY:First Day of School for Students
URL;VALUE=URI:https://www.op97.org/irving/calendar/3219545/first-day-of-sch
 ool-2022-23
DTSTART;VALUE=DATE:20220824
DTEND;VALUE=DATE:20220825
END:VEVENT
END:VCALENDAR
