BEGIN:VCALENDAR
VERSION:2.0
PRODID:SchoolNow
CALSCALE:GREGORIAN
BEGIN:VEVENT
UID:7c0121fa-ec22-11ec-ae3d-02f7a0dded9d
DTSTAMP:20220624T155204Z
SUMMARY:Labor Day - D97 Schools/Offices Closed
URL;VALUE=URI:https://www.op97.org/irving/calendar/3219559/labor-day-no-sch
 ool
DTSTART;VALUE=DATE:20220905
DTEND;VALUE=DATE:20220906
END:VEVENT
END:VCALENDAR
