BEGIN:VCALENDAR
VERSION:2.0
PRODID:SchoolNow
CALSCALE:GREGORIAN
BEGIN:VEVENT
UID:58f32d76-f30b-11ec-8e9e-0a30c8de4f4d
DTSTAMP:20220623T154420Z
SUMMARY:Spring Break - No School
URL;VALUE=URI:https://www.op97.org/irving/calendar/3229685/spring-break-no-
 school-2021-032822-clone
DTSTART;VALUE=DATE:20230327
DTEND;VALUE=DATE:20230401
END:VEVENT
END:VCALENDAR
