BEGIN:VCALENDAR
VERSION:2.0
PRODID:SchoolNow
CALSCALE:GREGORIAN
BEGIN:VEVENT
UID:70edf1b8-f30b-11ec-a9f1-0a30c8de4f4d
DTSTAMP:20220623T154500Z
SUMMARY:Institute Day - No School
URL;VALUE=URI:https://www.op97.org/irving/calendar/3229695/teacher-institut
 e-dayno-school-110221-clone-clone
DTSTART;VALUE=DATE:20230404
DTEND;VALUE=DATE:20230405
END:VEVENT
END:VCALENDAR
