BEGIN:VCALENDAR
VERSION:2.0
PRODID:SchoolNow
CALSCALE:GREGORIAN
BEGIN:VEVENT
UID:874a9cda-2336-11ed-8a3c-0af593475be1
DTSTAMP:20220823T225422Z
SUMMARY:Virtual Elementary Instrumental Music Open House (Grades 4-5)
URL;VALUE=URI:https://www.op97.org/irving/calendar/3298929/virtual-elementa
 ry-instrumental-music-open-house-grades-4-5
DTSTART:20220907T000000Z
DTEND:20220907T030000Z
END:VEVENT
END:VCALENDAR
