BEGIN:VCALENDAR
VERSION:2.0
PRODID:SchoolNow
CALSCALE:GREGORIAN
BEGIN:VEVENT
UID:760452e2-16a4-11ee-b5de-0a1119413869
DTSTAMP:20230629T174330Z
SUMMARY:Last Day of School
URL;VALUE=URI:https://www.op97.org/irving/calendar/4453108/last-day-of-scho
 ol
DTSTART;VALUE=DATE:20240604
DTEND;VALUE=DATE:20240605
END:VEVENT
END:VCALENDAR
