BEGIN:VCALENDAR
VERSION:2.0
PRODID:SchoolNow
CALSCALE:GREGORIAN
BEGIN:VEVENT
UID:355a52f2-8407-11ee-bf69-0a58fae0d08b
DTSTAMP:20231115T224338Z
SUMMARY:Winter Orchestra Concert
URL;VALUE=URI:https://www.op97.org/irving/calendar/4950138/winter-orchestra
 -concert
DTSTART:20231214T000000Z
DTEND:20231214T010000Z
END:VEVENT
END:VCALENDAR
