BEGIN:VCALENDAR
VERSION:2.0
PRODID:SchoolNow
CALSCALE:GREGORIAN
BEGIN:VEVENT
UID:57c81864-8408-11ee-9bf8-0228cfe621af
DTSTAMP:20231115T224353Z
SUMMARY:Winter Band Concert
URL;VALUE=URI:https://www.op97.org/irving/calendar/4950144/winter-band-conc
 ert
DTSTART:20231215T000000Z
DTEND:20231215T010000Z
END:VEVENT
END:VCALENDAR
