BEGIN:VCALENDAR
VERSION:2.0
PRODID:SchoolNow
CALSCALE:GREGORIAN
BEGIN:VEVENT
UID:9e950570-63ca-11ef-b55c-0affe2665995
DTSTAMP:20240826T164536Z
SUMMARY:Band & Orchestra recruiting
URL;VALUE=URI:https://www.op97.org/irving/calendar/6461727/band-orchestra-r
 ecruiting
DTSTART:20240903T220000Z
DTEND:20240904T000000Z
END:VEVENT
END:VCALENDAR
