BEGIN:VCALENDAR
VERSION:2.0
PRODID:SchoolNow
CALSCALE:GREGORIAN
BEGIN:VEVENT
UID:ebe41d7a-63ca-11ef-8e72-0affcc96cba9
DTSTAMP:20240826T164746Z
SUMMARY:Band & Orchestra recruiting
URL;VALUE=URI:https://www.op97.org/irving/calendar/6461742/band-orchestra-r
 ecruiting
DTSTART:20240905T000000Z
DTEND:20240905T010000Z
END:VEVENT
END:VCALENDAR
