BEGIN:VCALENDAR
VERSION:2.0
PRODID:SchoolNow
CALSCALE:GREGORIAN
BEGIN:VEVENT
UID:3958e01c-a9d5-11f0-a1ee-0a58a9feac02
DTSTAMP:20251015T144250Z
SUMMARY:TEACHER INSTITUTE DAY
URL;VALUE=URI:https://www.op97.org/irving/calendar/8724145/teacher-institut
 e-day
DTSTART;VALUE=DATE:20250819
DTEND;VALUE=DATE:20250820
END:VEVENT
END:VCALENDAR
