BEGIN:VCALENDAR
VERSION:2.0
PRODID:SchoolNow
CALSCALE:GREGORIAN
BEGIN:VEVENT
UID:3958e288-a9d5-11f0-a351-0a58a9feac02
DTSTAMP:20251015T144250Z
SUMMARY:FIRST DAY OF SCHOOL
URL;VALUE=URI:https://www.op97.org/irving/calendar/8724146/first-day-of-sch
 ool
DTSTART;VALUE=DATE:20250820
DTEND;VALUE=DATE:20250821
END:VEVENT
END:VCALENDAR
