BEGIN:VCALENDAR
VERSION:2.0
PRODID:SchoolNow
CALSCALE:GREGORIAN
BEGIN:VEVENT
UID:3958e3e6-a9d5-11f0-864a-0a58a9feac02
DTSTAMP:20251015T144250Z
SUMMARY:NO SCHOOL
URL;VALUE=URI:https://www.op97.org/irving/calendar/8724147/no-school
DTSTART;VALUE=DATE:20250923
DTEND;VALUE=DATE:20250924
END:VEVENT
END:VCALENDAR
