BEGIN:VCALENDAR
VERSION:2.0
PRODID:SchoolNow
CALSCALE:GREGORIAN
BEGIN:VEVENT
UID:3958e4ea-a9d5-11f0-bf28-0a58a9feac02
DTSTAMP:20251015T144250Z
SUMMARY:NO SCHOOL
URL;VALUE=URI:https://www.op97.org/irving/calendar/8724148/no-school
DTSTART;VALUE=DATE:20251002
DTEND;VALUE=DATE:20251003
END:VEVENT
END:VCALENDAR
