BEGIN:VCALENDAR
VERSION:2.0
PRODID:SchoolNow
CALSCALE:GREGORIAN
BEGIN:VEVENT
UID:3958e6d4-a9d5-11f0-ac79-0a58a9feac02
DTSTAMP:20251015T144250Z
SUMMARY:TEACHER CONFERENCES
URL;VALUE=URI:https://www.op97.org/irving/calendar/8724150/teacher-conferen
 ces
DTSTART;VALUE=DATE:20251023
DTEND;VALUE=DATE:20251025
END:VEVENT
END:VCALENDAR
