BEGIN:VCALENDAR
VERSION:2.0
PRODID:SchoolNow
CALSCALE:GREGORIAN
BEGIN:VEVENT
UID:3958e8a0-a9d5-11f0-b2eb-0a58a9feac02
DTSTAMP:20251015T144250Z
SUMMARY:WINTER BREAK
URL;VALUE=URI:https://www.op97.org/irving/calendar/8724152/winter-break
DTSTART;VALUE=DATE:20251222
DTEND;VALUE=DATE:20260103
END:VEVENT
END:VCALENDAR
