BEGIN:VCALENDAR
VERSION:2.0
PRODID:SchoolNow
CALSCALE:GREGORIAN
BEGIN:VEVENT
UID:3958ea62-a9d5-11f0-8c51-0a58a9feac02
DTSTAMP:20251015T144250Z
SUMMARY:NO SCHOOL
URL;VALUE=URI:https://www.op97.org/irving/calendar/8724154/no-school
DTSTART;VALUE=DATE:20260119
DTEND;VALUE=DATE:20260120
END:VEVENT
END:VCALENDAR
