BEGIN:VCALENDAR
VERSION:2.0
PRODID:SchoolNow
CALSCALE:GREGORIAN
BEGIN:VEVENT
UID:3958eb34-a9d5-11f0-839d-0a58a9feac02
DTSTAMP:20251015T144250Z
SUMMARY:TEACHER CONFERENCES
URL;VALUE=URI:https://www.op97.org/irving/calendar/8724155/teacher-conferen
 ces
DTSTART;VALUE=DATE:20260212
DTEND;VALUE=DATE:20260214
END:VEVENT
END:VCALENDAR
