BEGIN:VCALENDAR
VERSION:2.0
PRODID:SchoolNow
CALSCALE:GREGORIAN
BEGIN:VEVENT
UID:3958ec10-a9d5-11f0-a7f1-0a58a9feac02
DTSTAMP:20251015T144250Z
SUMMARY:NO SCHOOL
URL;VALUE=URI:https://www.op97.org/irving/calendar/8724156/no-school
DTSTART;VALUE=DATE:20260216
DTEND;VALUE=DATE:20260217
END:VEVENT
END:VCALENDAR
