BEGIN:VCALENDAR
VERSION:2.0
PRODID:SchoolNow
CALSCALE:GREGORIAN
BEGIN:VEVENT
UID:3958edbe-a9d5-11f0-b3ef-0a58a9feac02
DTSTAMP:20251015T144250Z
SUMMARY:SPRING BREAK
URL;VALUE=URI:https://www.op97.org/irving/calendar/8724158/spring-break
DTSTART;VALUE=DATE:20260330
DTEND;VALUE=DATE:20260404
END:VEVENT
END:VCALENDAR
