BEGIN:VCALENDAR
VERSION:2.0
PRODID:SchoolNow
CALSCALE:GREGORIAN
BEGIN:VEVENT
UID:3958ee9a-a9d5-11f0-a17f-0a58a9feac02
DTSTAMP:20251015T144250Z
SUMMARY:Back to School movie night!
URL;VALUE=URI:https://www.op97.org/irving/calendar/8724159/back-to-school-m
 ovie-night
DTSTART:20250926T230000Z
DTEND:20250927T023000Z
END:VEVENT
END:VCALENDAR
