BEGIN:VCALENDAR
VERSION:2.0
PRODID:SchoolNow
CALSCALE:GREGORIAN
BEGIN:VEVENT
UID:3958ef6c-a9d5-11f0-8c35-0a58a9feac02
DTSTAMP:20251015T144250Z
SUMMARY:FUN RUN 2025
URL;VALUE=URI:https://www.op97.org/irving/calendar/8724160/fun-run-2025
DTSTART;VALUE=DATE:20251017
DTEND;VALUE=DATE:20251018
END:VEVENT
END:VCALENDAR
