BEGIN:VCALENDAR
VERSION:2.0
PRODID:SchoolNow
CALSCALE:GREGORIAN
BEGIN:VEVENT
UID:3958f12e-a9d5-11f0-907f-0a58a9feac02
DTSTAMP:20251015T144250Z
SUMMARY:PTO MEETING 7pm Mr. Sak!
URL;VALUE=URI:https://www.op97.org/irving/calendar/8724162/pto-meeting-7pm-
 mr-sak
DTSTART:20250829T000000Z
DTEND:20250829T013000Z
END:VEVENT
END:VCALENDAR
