BEGIN:VCALENDAR
VERSION:2.0
PRODID:SchoolNow
CALSCALE:GREGORIAN
BEGIN:VEVENT
UID:3958f20a-a9d5-11f0-90f7-0a58a9feac02
DTSTAMP:20251015T144250Z
SUMMARY:First Garden Club
URL;VALUE=URI:https://www.op97.org/irving/calendar/8724163/first-garden-clu
 b
DTSTART:20250829T200500Z
DTEND:20250829T212000Z
END:VEVENT
END:VCALENDAR
