BEGIN:VCALENDAR
VERSION:2.0
PRODID:SchoolNow
CALSCALE:GREGORIAN
BEGIN:VEVENT
UID:3958f3ea-a9d5-11f0-b343-0a58a9feac02
DTSTAMP:20251015T144250Z
SUMMARY:Instrumental (PREVIEW) Night
URL;VALUE=URI:https://www.op97.org/irving/calendar/8724165/instrumental-pre
 view-night
DTSTART:20250904T220000Z
DTEND:20250905T010000Z
END:VEVENT
END:VCALENDAR
