BEGIN:VCALENDAR
VERSION:2.0
PRODID:SchoolNow
CALSCALE:GREGORIAN
BEGIN:VEVENT
UID:3958f4c6-a9d5-11f0-aeda-0a58a9feac02
DTSTAMP:20251015T144250Z
SUMMARY:PICTURE DAY
URL;VALUE=URI:https://www.op97.org/irving/calendar/8724166/picture-day
DTSTART;VALUE=DATE:20250925
DTEND;VALUE=DATE:20250926
END:VEVENT
END:VCALENDAR
