BEGIN:VCALENDAR
VERSION:2.0
PRODID:SchoolNow
CALSCALE:GREGORIAN
BEGIN:VEVENT
UID:3958f5e8-a9d5-11f0-bb6c-0a58a9feac02
DTSTAMP:20251015T144250Z
SUMMARY:EAGLES EXTRAS STARTS!
URL;VALUE=URI:https://www.op97.org/irving/calendar/8724167/eagles-extras-st
 arts
DTSTART;VALUE=DATE:20250915
DTEND;VALUE=DATE:20250916
END:VEVENT
END:VCALENDAR
