BEGIN:VCALENDAR
VERSION:2.0
PRODID:SchoolNow
CALSCALE:GREGORIAN
BEGIN:VEVENT
UID:3958f6ce-a9d5-11f0-94b7-0a58a9feac02
DTSTAMP:20251015T144250Z
SUMMARY:PTO Welcome Event for Parents (at Bobby’s)
URL;VALUE=URI:https://www.op97.org/irving/calendar/8724168/pto-welcome-even
 t-for-parents-at-bobby-s
DTSTART:20250918T230000Z
DTEND:20250919T020000Z
END:VEVENT
END:VCALENDAR
