BEGIN:VCALENDAR
VERSION:2.0
PRODID:SchoolNow
CALSCALE:GREGORIAN
BEGIN:VEVENT
UID:3958f8ea-a9d5-11f0-a090-0a58a9feac02
DTSTAMP:20251015T144250Z
SUMMARY:SPRIT WEEK
URL;VALUE=URI:https://www.op97.org/irving/calendar/8724170/sprit-week
DTSTART;VALUE=DATE:20251014
DTEND;VALUE=DATE:20251017
END:VEVENT
END:VCALENDAR
