BEGIN:VCALENDAR
VERSION:2.0
PRODID:SchoolNow
CALSCALE:GREGORIAN
BEGIN:VEVENT
UID:3958f9d0-a9d5-11f0-a427-0a58a9feac02
DTSTAMP:20251015T144250Z
SUMMARY:Irving Halloween Parade
URL;VALUE=URI:https://www.op97.org/irving/calendar/8724171/irving-halloween
 -parade
DTSTART;VALUE=DATE:20251031
DTEND;VALUE=DATE:20251101
END:VEVENT
END:VCALENDAR
