BEGIN:VCALENDAR
VERSION:2.0
PRODID:SchoolNow
CALSCALE:GREGORIAN
BEGIN:VEVENT
UID:3958fab6-a9d5-11f0-ba47-0a58a9feac02
DTSTAMP:20251015T144250Z
SUMMARY:2025 IRVING TRIVIA !
URL;VALUE=URI:https://www.op97.org/irving/calendar/8724172/2025-irving-triv
 ia
DTSTART;VALUE=DATE:20251106
DTEND;VALUE=DATE:20251107
END:VEVENT
END:VCALENDAR
