BEGIN:VCALENDAR
VERSION:2.0
PRODID:SchoolNow
CALSCALE:GREGORIAN
BEGIN:VEVENT
UID:3958fb92-a9d5-11f0-b354-0a58a9feac02
DTSTAMP:20251015T144250Z
SUMMARY:TURKEY TROT (TBD)
URL;VALUE=URI:https://www.op97.org/irving/calendar/8724173/turkey-trot-tbd
DTSTART;VALUE=DATE:20251125
DTEND;VALUE=DATE:20251126
END:VEVENT
END:VCALENDAR
