BEGIN:VCALENDAR
VERSION:2.0
PRODID:SchoolNow
CALSCALE:GREGORIAN
BEGIN:VEVENT
UID:3958fc6e-a9d5-11f0-9488-0a58a9feac02
DTSTAMP:20251015T144250Z
SUMMARY:Book Fair!
URL;VALUE=URI:https://www.op97.org/irving/calendar/8724174/book-fair
DTSTART;VALUE=DATE:20251020
DTEND;VALUE=DATE:20251024
END:VEVENT
END:VCALENDAR
