BEGIN:VCALENDAR
VERSION:2.0
PRODID:SchoolNow
CALSCALE:GREGORIAN
BEGIN:VEVENT
UID:3958ff02-a9d5-11f0-84c5-0a58a9feac02
DTSTAMP:20251015T144250Z
SUMMARY:PTO MEETING!
URL;VALUE=URI:https://www.op97.org/irving/calendar/8724177/pto-meeting
DTSTART:20251212T010000Z
DTEND:20251212T023000Z
END:VEVENT
END:VCALENDAR
