BEGIN:VCALENDAR
VERSION:2.0
PRODID:SchoolNow
CALSCALE:GREGORIAN
BEGIN:VEVENT
UID:3958ffd4-a9d5-11f0-a51f-0a58a9feac02
DTSTAMP:20251015T144250Z
SUMMARY:PTO MEETING!
URL;VALUE=URI:https://www.op97.org/irving/calendar/8724178/pto-meeting
DTSTART:20260109T010000Z
DTEND:20260109T023000Z
END:VEVENT
END:VCALENDAR
