BEGIN:VCALENDAR
VERSION:2.0
PRODID:SchoolNow
CALSCALE:GREGORIAN
BEGIN:VEVENT
UID:395900ba-a9d5-11f0-b62f-0a58a9feac02
DTSTAMP:20251015T144250Z
SUMMARY:PTO MEETING!
URL;VALUE=URI:https://www.op97.org/irving/calendar/8724179/pto-meeting
DTSTART:20260213T010000Z
DTEND:20260213T023000Z
END:VEVENT
END:VCALENDAR
