BEGIN:VCALENDAR
VERSION:2.0
PRODID:SchoolNow
CALSCALE:GREGORIAN
BEGIN:VEVENT
UID:39590344-a9d5-11f0-8d8b-0a58a9feac02
DTSTAMP:20251015T144250Z
SUMMARY:PTO MEETING!
URL;VALUE=URI:https://www.op97.org/irving/calendar/8724182/pto-meeting
DTSTART:20260515T000000Z
DTEND:20260515T013000Z
END:VEVENT
END:VCALENDAR
