BEGIN:VCALENDAR
VERSION:2.0
PRODID:SchoolNow
CALSCALE:GREGORIAN
BEGIN:VEVENT
UID:39590420-a9d5-11f0-89a2-0a58a9feac02
DTSTAMP:20251015T144250Z
SUMMARY:PTO MEETING!
URL;VALUE=URI:https://www.op97.org/irving/calendar/8724183/pto-meeting
DTSTART:20260612T000000Z
DTEND:20260612T013000Z
END:VEVENT
END:VCALENDAR
