BEGIN:VCALENDAR
VERSION:2.0
PRODID:SchoolNow
CALSCALE:GREGORIAN
BEGIN:VEVENT
UID:395906aa-a9d5-11f0-9624-0a58a9feac02
DTSTAMP:20251015T144250Z
SUMMARY:PTO MEETING!
URL;VALUE=URI:https://www.op97.org/irving/calendar/8724186/pto-meeting
DTSTART:20260911T000000Z
DTEND:20260911T013000Z
END:VEVENT
END:VCALENDAR
